BEGIN:VCALENDAR
VERSION:2.0
PRODID:-//YourOrganization//EventDownload//DE
CALSCALE:GREGORIAN
METHOD:PUBLISH
BEGIN:VEVENT
UID:69e62c8f9ad23@leapup.bitshifters.cloud
DTSTAMP:20260420T153927Z
DTSTART:20180426T180000Z
DTEND:20180426T201500Z
SUMMARY:Treffpunkt In-vitro-Diagnostik - Neurologie
DESCRIPTION:Treffpunkt In-vitro-Diagnostik\nNeurologie: Neues zur Frühdiagnostik von neurodegenerativen Krankheiten und Enzephalitis\n26. April 2018 | Magnus-Haus | Berlin-Mitte | Am Kupfergraben 7\nNeurodegenerative Erkrankungen\, wie Demenz oder Parkinson\, sind meist mit dem Alter assoziiert und rücken somit durch den demografischen Wandel und der damit verbundenen steigenden Alterung der Bevölkerung immer weiter in den Fokus. Derzeit leiden zum Beispiel bereits über 1\,55 Millionen Menschen in Deutschland an Demenz: Tendenz steigend. Je früher Ärzte eine Demenz diagnostizieren\, umso eher können sie eine geeignete Behandlung einleiten\, was schließlich auch zu einer längeren Leistungsfähigkeit und Unabhängigkeit gegenüber pflegenden Personen führt.\nBeim Treffpunkt am 26. April 2018 stehen die Fortschritte in der Frühdiagnostik neurologischer Krankheiten im Vordergrund. Zunächst referiert PD Dr. Harald Prüß von der Charité-Universitätsmedizin Berlin über neue Möglichkeiten der Diagnostik einer antikörpervermittelten Enzephalitis. Prof. Anja Schneider vom Universitätsklinikum Bonn gibt einen Überblick über neue Biomarker\, die es ermöglichen eine frühzeitige Diagnose und Prognose bei Demenz und Parkinson zu stellen. Zum Schluss stellt Dr. Christian Zafiu vom Forschungszentrum Jülich eine ultra-sensitive Methode vor\, mit der sich Amyloid-?-Aggregate als Auslöser von Alzheimer-Demenz zuverlässig in Körperflüssigkeiten bestimmen lassen können.\nIm Anschluss laden wir Sie herzlich ein\, sich mit den Referenten und Teilnehmern am Buffet auszutauschen. Der Vortragsabend richtet sich an Mitarbeiter aus Diagnostik- und Pharmafirmen\, Laboren\, Kliniken\, Praxen und Forschungsinstituten\, die sich einen praxisnahen und informativen Überblick auf diesem Gebiet wünschen.\nPROGRAMM \nModerationProf. Dirk RoggenbuckGA Generic Assays &amp\; MEDIPAN GmbH\n18.00Begrüßung &amp\; EinführungDr. Jörg-M. Hollidt | DiagnostikNet-BB e.V.\n18.15Neues zur Diagnostik einer antikörpervermittelten EnzephalitisPD Dr. Harald Prüß | Charité – Universitätsmedizin Berlin\n18.55Fluide Biomarker bei neurodegenerativen ErkrankungenProf. Anja Schneider | Universitätsklinikum Bonn\n19.35sFIDA – innovative Plattformtechnologie zur Frühdiagnose von AlzheimerDr. Christian Zafiu | Forschungszentrum Jülich\n20.15Verabschiedung\nab 20.20Meinungsaustausch am Buffet\nTEILNAHMEGEBÜHREN (zzgl. MwSt.)Normalpreis | 99\,- EuroMitglieder DiagnostikNet-BB | 49\,- Euro\nBitte beachten Sie\, dass in der eveeno-Anmeldemaske die Teilnahmegebühren in Bruttopreisen ausgewiesen sind.\nANMELDUNGUm sich anzumelden\, nutzen Sie bitte das Online-Formular unter folgendem Link: www.eveeno.com/Neurologie.Anmeldeschluss ist am 16. April 2018.\nNach Eingang Ihrer Anmeldung erhalten Sie von eveeno umgehend eine Eingangsbestätigung und eine Rechnung per E-Mail.\nHinweis: Ihre persönlichen Daten verbleiben ausschließlich in den Händen des Veranstalters und werden nicht an Dritte weitergegeben. Bitte beachten Sie\, dass Ihre Anmeldung erst dann vollumfänglich gültig ist\, wenn die Teilnahmegebühr auf unserem Konto eingegangen ist.\nNach Zahlungseingang erhalten Sie eine Buchungsbestätigung und Ihr Teilnehmerticket per E-Mail. Bei einer schriftlichen Absage bis einschließlich 16. April 2018 stornieren wir die Rechnung kostenfrei. Danach oder bei Nichterscheinen des Teilnehmers ist das gesamte Entgelt zu entrichten. Die Vertretung durch einen Ersatzteilnehmer ist jederzeit und ohne zusätzliche Kosten möglich. Bitte teilen Sie uns hierfür rechtzeitig den vollen Namen des Ersatzteilnehmers mit.
LOCATION:Magnus Haus\, Am Kupfergraben 7\, 10117 Berlin
END:VEVENT
END:VCALENDAR
