BEGIN:VCALENDAR
VERSION:2.0
PRODID:-//YourOrganization//EventDownload//DE
CALSCALE:GREGORIAN
METHOD:PUBLISH
BEGIN:VEVENT
UID:69e5ef4428c53@leapup.bitshifters.cloud
DTSTAMP:20260420T111756Z
DTSTART:20191128T090000Z
DTEND:20191128T180000Z
SUMMARY:Unhide The Champions X Optics & Photonics
DESCRIPTION:Unhide The Champions ist eine business-Partnering-Plattform für Mittelständische Unternehmen und junge Hochtechnologie-Unternehmen\, um gemeinsame Geschäftsbeziehungen zu entwickeln.\nAm 28.11.2019 findet dasnächste Unhide The Champions X Optics und Photonics findet in Jena\, dem Optik und Photonik Hotspot Europas\, statt. Mittelständische Unternehmen und junge Hochtechnologie-Unternehmen aus den Applikationsfeldern:\n\nconnected mobility\nfeed &amp\; food\nlife sciences &amp\; healthcare\nmanufacturing &amp\; production\nsustainability &amp\; clean environment\n\nwerden sich hier gegenseitig kennenlernen\, vernetzen und neue Kunden gewinnen.\n1-tägiges Partnering-Event mit folgenden Highlights:\n\nKunden gewinnen\, Marktzugang erhalten\, zusätzliche Anwendungsfelder erschließen - alles durch die Initiierung von Win/Win-Partnerschaften mit etablierten deutschen Unternehmen\nProdukte und Lösungen vor den relevanten Entscheidungsträgern deutscher Unternehmen der Industrie pitchen (Fokus auf die Präsentation Ihrer Lösungen/Produkte\, nicht auf die Finanzierung)\nZugang zum deutschen Mittelstand erhalten\n20-minütige 1:1 Meetings buchen (über die Partnering-App)\nSichtbarkeit auf dem deutschen Markt erhöhen und vom Zugang zu weltweit führenden Branchen-Clustern und Hightechhubs profitieren\nIdeen für zukünftige Geschäftsbeziehungen an Ihrem Stand im Rahmen der Exhibition Area beraten (Ihr Roll-up\, darf nach der Veranstaltung behalten werden)\n
LOCATION:Ernst-Abbe-Hochschule Jena\, Carl-Zeiß-Promenade 2\, 07745 Jena
END:VEVENT
END:VCALENDAR
