BEGIN:VCALENDAR
VERSION:2.0
PRODID:-//YourOrganization//EventDownload//DE
CALSCALE:GREGORIAN
METHOD:PUBLISH
BEGIN:VEVENT
UID:69e4c4ed89091@leapup.bitshifters.cloud
DTSTAMP:20260419T140501Z
DTSTART:20240529T120000Z
DTEND:20240529T140000Z
SUMMARY:Unlocking IMDRF: Das globale Code-System für Complaints verstehen (kostenloses Webinar)
DESCRIPTION:Die IMDRF-Codes\, auch als "Terminologies for Categorized Adverse Event Reporting"&nbsp\;bekannt\, bieten eine standardisierte Methode zur Beschreibung und Klassifizierung von Vorkommnissen im Zusammenhang mit Medizinprodukten.&nbsp\;Auf einer globalen Ebene entwickelt\, finden die IMDRF-Codes im Post-Market Surveillance auf EU-Ebene heute bereits breite Anwendung.\nIn dieser Veranstaltung lernen sie die Code-Struktur kennen und zu navigieren. Anhand mehrerer Beispiele wird Ihnen die Anwendung der IMDRF-Codes praxisnah beigebracht. Die Veranstaltung bietet zudem ausf&uuml\;hrlich Zeit f&uuml\;r Ihre Fragen.\nWeitere Informationen
END:VEVENT
END:VCALENDAR
