BEGIN:VCALENDAR
VERSION:2.0
PRODID:-//YourOrganization//EventDownload//DE
CALSCALE:GREGORIAN
METHOD:PUBLISH
BEGIN:VEVENT
UID:69e54367d7a17@leapup.bitshifters.cloud
DTSTAMP:20260419T230439Z
DTSTART:20231115T100000Z
DTEND:20231115T130000Z
SUMMARY:Update Israel
DESCRIPTION:Die digitalisierte Industrie mit neuen Formen der Produktionstechnik und der Antriebe lebt ebenso vom internationalen Austausch wie jede unternehmensnahe Forschung und die Life Sciences &ndash\; u.a. mit Israel als der &bdquo\;Start-Up-Nation&ldquo\;.\n\nBringen Sie sich mit Ihren bestehenden Kooperationen oder Kooperationsw&uuml\;nschen ein &ndash\; zur Online-Veranstaltung &uuml\;ber die aktuelle Lage und die Unternehmens- und Technologiebeziehungen zwischen Deutschland und Israel &ndash\; als Zeichen der gelebten Partnerschaft.\n\nJetzt anmelden!
END:VEVENT
END:VCALENDAR
