BEGIN:VCALENDAR
VERSION:2.0
PRODID:-//YourOrganization//EventDownload//DE
CALSCALE:GREGORIAN
METHOD:PUBLISH
BEGIN:VEVENT
UID:69e501f5cc27f@leapup.bitshifters.cloud
DTSTAMP:20260419T182525Z
DTSTART:20251013T000000Z
DTEND:20251016T000000Z
SUMMARY:V2025 Internationale Konferenz und Ausstellung für Vakuum | Plasma | Oberfläche | Beschichtung
DESCRIPTION:Die V Conference ist der Treffpunkt für die Vakuum-\, Plasma- und Beschichtungsindustrie. Referenten und Aussteller aus Industrie und Wissenschaft werden dem Fachpublikum die neuesten Entwicklungen und Innovationen der Branche vorstellen. Treffen Sie sich mit der europäischen Community. Entdecken Sie die ausstellenden Unternehmen. Diese führenden Unternehmen bieten neue Möglichkeiten und innovative Produkte\, um Ihre Projekte voranzubringen.Die V Conference ist die größte europäische Plattform für den Austausch zwischen Industrie und Wissenschaft für angewandte Vakuum-\, Plasma- und Oberflächentechnik.\n\nInternationale Konferenz\nIndustrieausstellung mit mehr als 70 Instituten und Firmen\nFortbildungsveranstaltungen / Tutorials\nPodiumsdiskussionen &amp\; Grundsatzreferate\nPreisverleihungen\nJob-Angebote\nIndustrieabend &amp\; Konferenzdinner\n\nWeitere Informationen hier!
LOCATION:International Congress Center Dresden\, Ostra-Ufer 2\, 01067 Dresden
END:VEVENT
END:VCALENDAR
