BEGIN:VCALENDAR
VERSION:2.0
PRODID:-//YourOrganization//EventDownload//DE
CALSCALE:GREGORIAN
METHOD:PUBLISH
BEGIN:VEVENT
UID:69e6882a83fd1@leapup.bitshifters.cloud
DTSTAMP:20260420T221018Z
DTSTART:20160203T090000Z
DTEND:20160204T160000Z
SUMMARY:Vertriebsseminar "Verhandlungen erfolgreich führen\, Kunden und Partner gewinnen" am 03./04.02.2016 in Leipzig
DESCRIPTION:Gemeinsam mit HCMC Health Care Marketing l&auml\;dt biosaxony Sie am 03. und 04. Februar 2015 zu einem zweit&auml\;gigen Vertriebsseminar zum Thema &bdquo\;Verhandlungen erfolgreich f&uuml\;hren\, Kunden und Partner gewinnen&ldquo\; nach Leipzig ein.\nInhalte des Seminars\n\nGrundlagen der Gespr&auml\;chsf&uuml\;hrung\nPhasen der Gespr&auml\;chsf&uuml\;hrung\nFragetechniken\nErfolgreiche Behandlung von Einw&auml\;nden\nEinsatz von Abschlusstechniken\nSelbstmotivation\nK&ouml\;rpersprache deuten und einsetzen\nKonfliktgespr&auml\;che f&uuml\;hren\n\nDie Gespr&auml\;chstrainings werden bei Einverst&auml\;ndnis der Teilnehmer auf Video aufgezeichnet und ausgewertet. Danach werden die Aufnahmen gel&ouml\;scht.\nZielsetzung:\nVermittlung von Grundlagen der Gespr&auml\;chsf&uuml\;hrung und Training von Gespr&auml\;chssituationen mit Kunden\, Gesch&auml\;ftspartnern und Investoren.\nZielgruppe: Vertriebsmitarbeiter\, Innendienst- und Servicemitarbeiter mit Kundenkontakt\nWeitere wichtige Informationen entnehmen Sie bitte dem Flyer (pdf).\nBitte nutzen Sie f&uuml\;r Ihre Anmeldung unsere hier verlinkte online Registrierung.\n&nbsp\;\nWir freuen uns auf Sie!
LOCATION:BIO CITY LEIPZIG\, Deutscher Platz\, 04103 Leipzig
END:VEVENT
END:VCALENDAR
