BEGIN:VCALENDAR
VERSION:2.0
PRODID:-//YourOrganization//EventDownload//DE
CALSCALE:GREGORIAN
METHOD:PUBLISH
BEGIN:VEVENT
UID:69e5c617895b7@leapup.bitshifters.cloud
DTSTAMP:20260420T082215Z
DTSTART:20201116T090000Z
DTEND:20201119T180000Z
SUMMARY:virtual.MEDICA
DESCRIPTION:Hier trifft sich die ganze Welt der Medizin. Wer den Gesundheitsmarkt von morgen live erleben will\, darf das nicht verpassen.\nWeitere Informationen: https://virtual.medica.de/
END:VEVENT
END:VCALENDAR
