BEGIN:VCALENDAR
VERSION:2.0
PRODID:-//YourOrganization//EventDownload//DE
CALSCALE:GREGORIAN
METHOD:PUBLISH
BEGIN:VEVENT
UID:69e8902839060@leapup.bitshifters.cloud
DTSTAMP:20260422T110856Z
DTSTART:20200827T100000Z
DTEND:20200827T120000Z
SUMMARY:Virtuelle Informationsveranstaltung zur BMBF-Bekanntmachung „Prävention und Versorgung epidemisch auftretender Infektionen mit innovativer Medizintechnik“
DESCRIPTION:Flankierend zu bestehenden F&ouml\;rderma&szlig\;nahmen plant das BMBF angesichts der SARS-CoV-2-Pandemie die F&ouml\;rderung von Projekten zum Thema &bdquo\;Pr&auml\;vention und Versorgung epidemisch auftretender Infektionen mit innovativer Medizintechnik&ldquo\; (Bundesanzeiger vom 03.08.2020).\nZweck der F&ouml\;rderma&szlig\;nahme im Bereich der Medizintechnik ist es\, in Verbundprojekten erfolgversprechende Produkt-\, Prozess- oder Dienstleistungsinnovationen f&uuml\;r die Pr&auml\;vention und Versorgung epidemisch auftretender Infektionen zu realisieren und damit die Leistungsf&auml\;higkeit des Gesundheitssystems in dieser Hinsicht zu verbessern. Dabei gilt es f&uuml\;r Medizintechnik-Unternehmen\, Erkenntnisse aus andauernden oder &uuml\;berstandenen Epi- oder Pandemien in die Erforschung und Entwicklung zuk&uuml\;nftiger Innovationen einzubeziehen und ebenso verst&auml\;rkt an L&ouml\;sungen zu arbeiten\, die das zielgerichtete Management der Patientenversorgung in Epidemie- oder Pandemiesituationen optimieren.\nWeitere Details zur Bekanntmachung finden Sie HIER.\nIm Auftrag des BMBF veranstaltet die VDI Technologiezentrum GmbH am 27. August 2020 ab 10:00 Uhr eine virtuelle Informationsveranstaltung zur o.g. F&ouml\;rderma&szlig\;nahme.\nNach der Vorstellung der F&ouml\;rderrichtlinie haben Sie (ab ca. 11:00 Uhr) au&szlig\;erdem die M&ouml\;glichkeit\, in sogenannten 1:1 Gespr&auml\;chen\, mit den verantwortlichen Ansprechpartnern\, Ihr Vorhaben konkret zu besprechen und Fragen zu stellen. Diese Gespr&auml\;che werden &uuml\;ber MS Teams durchgef&uuml\;hrt.\nWir freuen uns\, Sie zu unserer virtuellen Veranstaltung begr&uuml\;&szlig\;en zu d&uuml\;rfen. Bitte melden Sie sich bis zum 21. August 2020 unter folgendem Link an: https://www.surveymonkey.de/r/58HKWHH
END:VEVENT
END:VCALENDAR
