BEGIN:VCALENDAR
VERSION:2.0
PRODID:-//YourOrganization//EventDownload//DE
CALSCALE:GREGORIAN
METHOD:PUBLISH
BEGIN:VEVENT
UID:69e589638fd41@leapup.bitshifters.cloud
DTSTAMP:20260420T040315Z
DTSTART:20230316T090000Z
DTEND:20230316T160000Z
SUMMARY:Virtueller LABO Anwendertag Labor 4.0
DESCRIPTION:Freuen Sie sich am "virtuellen LABO Anwendertag Labor 4.0" auf die sechs Fachvortr&auml\;ge unserer Partner!\nDer Event-Sponsor ist INTEGRA - Ihr Partner f&uuml\;r produktives Pipettieren. INTEGRA ist ein f&uuml\;hrender Anbieter hochwertiger Laborinstrumente und Verbrauchsmaterialien f&uuml\;r das Liquid Handling und die N&auml\;hrmedienherstellung. Wir sind bestrebt\, innovative L&ouml\;sungen zu entwickeln\, welche die Bed&uuml\;rfnisse unserer Kunden in Forschung\, Diagnostik und Qualit&auml\;tskontrolle erf&uuml\;llen.\nHier anmelden!
END:VEVENT
END:VCALENDAR
