BEGIN:VCALENDAR
VERSION:2.0
PRODID:-//YourOrganization//EventDownload//DE
CALSCALE:GREGORIAN
METHOD:PUBLISH
BEGIN:VEVENT
UID:69e8b2b9b25d3@leapup.bitshifters.cloud
DTSTAMP:20260422T133625Z
DTSTART:20190213T090000Z
DTEND:20190213T130000Z
SUMMARY:Von der Idee zum Patent
DESCRIPTION:Innovationen sind ein Schlüssel zu Wachstum und Erfolg\, bedeuten aber auch Risiken und Investitionen\, gerade für kleine und mittlere Unternehmen. Nur wenn eine angemessene Rendite sicher generiert werden kann und der entsprechenden Schutz der "Idee" gewährleistet wird\, schafft man ausreichend Anreiz zur Investition.\nFür diesen Prozess und alle damit verbundenen Fragen sind patentrechtliche Kenntnisse erforderlich. In unserem Fachvortrag erhalten Sie einen Einblick in die Abläufe und Hintergründe von der Idee bis zum Patent. Profitieren Sie von den Erfahrungen unserer Expertin\, welche die Inhalte praxisgerecht vermittelt.\nINHALT:\n\nArbeitnehmererfindergesetz (ArbnErfG)\nSinn und Unsinn einer Patentanmeldung\nVerfahren und Kosten\nÜberwachung und Verwertung\n\nPREIS:\nbiosaxony-Mitglieder erhalten einen Rabatt von 4%.\nBIOSAXONY Mitglieder: 274 € (netto) NICHT-Mitglieder: 285 € (netto)\nBitte nutzen Sie für Ihre Anmeldung unsere hier verlinkte online Registrierung.
LOCATION:SLG Akademie GmbH\, Burgstädter Straße 20\, 09232 Hartmannsdorf
END:VEVENT
END:VCALENDAR
