BEGIN:VCALENDAR
VERSION:2.0
PRODID:-//YourOrganization//EventDownload//DE
CALSCALE:GREGORIAN
METHOD:PUBLISH
BEGIN:VEVENT
UID:69e52f38d9550@leapup.bitshifters.cloud
DTSTAMP:20260419T213832Z
DTSTART:20240528T110000Z
DTEND:20240528T114500Z
SUMMARY:Von der Idee zur Marke 
DESCRIPTION:Marken sind mehr als "nur" Kennzeichen f&uuml\;r ein Produkt oder eine Dienstleistung\, auch wenn ihre Hauptaufgabe nach wie vor darin besteht\, das eigene Angebot von dem der Konkurrenz zu unterscheiden und diesem eine unverwechselbare Identit&auml\;t mit Wiedererkennungswert zu geben.\nJosephine Klawon und Sabrina Lahne sprechen dar&uuml\;ber\, was Sie bei der Gestaltung Ihrer Marke und Ihres Markennamens beachten sollen\, um sich nicht nur von der Konkurrenz abzuheben\, sondern Ihre Marke auch langfristig rechtlich abzusichern. \nDen Link erhalten Sie rechtezitig vor Beginn des Webinars.\nMehrere Informationen finden Sie hier!
END:VEVENT
END:VCALENDAR
