BEGIN:VCALENDAR
VERSION:2.0
PRODID:-//YourOrganization//EventDownload//DE
CALSCALE:GREGORIAN
METHOD:PUBLISH
BEGIN:VEVENT
UID:69e6d6566b48d@leapup.bitshifters.cloud
DTSTAMP:20260421T034350Z
DTSTART:20140125T000000Z
DTEND:20140125T000000Z
SUMMARY:Vortragsveranstaltung "Kunstgelenk - Netzwerk Endoprothetik"
DESCRIPTION:Die H&uuml\;ft- und Knie-Endoprothetik besitzt in Deutschland mit j&auml\;hrlich etwa 400 000 Operationen eine enorme medizinische und &ouml\;konomische Bedeutung. Mit dem im M&auml\;rz 2013 gegr&uuml\;ndeten &raquo\;Kunstgelenk &ndash\; Netzwerk Endoprothetik&laquo\; wollen wir dazu beitragen\, die Gelenk-Endoprothetik zuk&uuml\;nftig noch sicherer\, erfolgreicher und effizienter zu gestalten. Unser Ziel ist es\, die wissenschaftlichen Erkenntnisse der teilnehmenden Forschungseinrichtungen noch besser mit der Spitzentechnologie regionaler und &uuml\;berregionaler Wirtschaftsunternehmen zusammenzuf&uuml\;hren.\nDas Fraunhofer IWU m&ouml\;chte Sie sehr herzlich zu einer Vortragsveranstaltung einladen\, die dem Schwerpunkt H&uuml\;ft- und Knie-Endoprothetik gewidmet ist. In den Referaten werden anatomische\, historische\, experimentelle\, klinische und technologische Aspekte erl&auml\;utert. Neben dem gegenw&auml\;rtigen Entwicklungsstand sollen offene Fragen sowie Herausforderungen\, Ans&auml\;tze zu deren L&ouml\;sung und Perspektiven angesprochen werden.\nDie Teilnahme an der Veranstaltung ist kostenfrei.
END:VEVENT
END:VCALENDAR
