BEGIN:VCALENDAR
VERSION:2.0
PRODID:-//YourOrganization//EventDownload//DE
CALSCALE:GREGORIAN
METHOD:PUBLISH
BEGIN:VEVENT
UID:69e56ac40120d@leapup.bitshifters.cloud
DTSTAMP:20260420T015236Z
DTSTART:20230228T150000Z
DTEND:20230228T170000Z
SUMMARY:VUPinar: Labore als Datenkraftwerke-Nutzung und Nutzen von Labordaten
DESCRIPTION:\n\n\n\n\n\n\n\n\nWorin liegen also die Chancen einer zus&auml\;tzlichen Verwertung von Labor- und Ergebnisdaten\, welche neuen Gesch&auml\;ftsmodelle k&ouml\;nnten sich ergeben oder zeichnen sich ab und welche Grenzen und rechtlichen Rahmenbedingungen gilt es zu beachten? Diese und weitere Fragen werden im Rahmen des ersten VUPinars des Deutschen Verbandes Unabh&auml\;ngiger Pr&uuml\;flaboratorien (VUP) im Vordergrund stehen und von kompetenten Referenten aufgegriffen.\n\n\n\n\n\n\n\n\n\nHier anmelden!
END:VEVENT
END:VCALENDAR
