BEGIN:VCALENDAR
VERSION:2.0
PRODID:-//YourOrganization//EventDownload//DE
CALSCALE:GREGORIAN
METHOD:PUBLISH
BEGIN:VEVENT
UID:69e92c14ebe5d@leapup.bitshifters.cloud
DTSTAMP:20260422T221412Z
DTSTART:20151104T093000Z
DTEND:20151104T170000Z
SUMMARY:„Wachstumskern BioSAM – Themenworkshop“ am 04.11.2015 in Dresden
DESCRIPTION:Das B&uuml\;ndnis &bdquo\;Biologische Sensor-Aktor-Systeme auf der Basis von funktionalisierten Mikroorganismen&ldquo\; (BioSAM) vereint 11 Unternehmen und 6 Forschungsrichtungen aus der mittels&auml\;chsischen Region Dresden/Chemnitz/Leipzig und Th&uuml\;ringen.\nUnter dem Leitmotiv &bdquo\;Lebende Zellen auf Oberfl&auml\;chen &ndash\; hochempfindlich\, trotzdem stabil&ldquo\; soll die BioSAM-Technologieplattform f&uuml\;r eine breite wirtschaftliche Nutzung von zellbasierten Sensor-Aktor-Systemen in den Bereichen Bioverfahrenstechnik\, Wasser- und Umwelttechnologie sowie Klimatechnik erschlossen werden.\nDie Auftaktveranstaltung wird am 04.11.2015 in Dresden stattfinden.\nW&auml\;hrend der ganzt&auml\;gigen Veranstaltung erwarten Sie neben der Vorstellung des Vorhabens\, spannende Vortr&auml\;ge sowie die Pr&auml\;sentation der Projektpartner im Rahmen einer kleinen Ausstellung. Auch Ihre Ideen oder Fragen zum Thema biologische Sensor-Aktor-Systeme sind gefragt.\nVor Ort stehen Ihnen die Experten mit Ihrem Wissen und K&ouml\;nnen pers&ouml\;nlich zur Verf&uuml\;gung.\nWeitere Informationen zum Vorhaben finden Sie unter www.biosam.de oder im hier verlinkten Flyer. Gern senden wir Ihnen auch weitere Informationen per Email (info@biosam.de).\nAnmeldungen bei Frau Anke Lang\, biosaxony\, unter lang@biosaxony.com anmelden. Die Veranstaltung ist kostenfrei.\nProgramm/Tagesordnung (pdf)\nAnfahrtsbeschreibung (pdf)\, mit freundlicher Unterst&uuml\;tzung des Deutschen Hygiene-Museums Dresden.\nVor Ort stehen geb&uuml\;hrenpflichtige Parkpl&auml\;tze in ausreichender Menge zur Verf&uuml\;gung (Tagesticket 3\,00 &euro\;).
LOCATION:Deutsches Hygiene-Museum Dresden\, Marta-Fraenkel-Saal\, Lingnerplatz\, 01069 Dresden
END:VEVENT
END:VCALENDAR
