BEGIN:VCALENDAR
VERSION:2.0
PRODID:-//YourOrganization//EventDownload//DE
CALSCALE:GREGORIAN
METHOD:PUBLISH
BEGIN:VEVENT
UID:69e59dd1f09f0@leapup.bitshifters.cloud
DTSTAMP:20260420T053025Z
DTSTART:20211102T160000Z
DTEND:20211102T173000Z
SUMMARY:Wachstumsmarkt MedTechnik
DESCRIPTION:In gro&szlig\;en Schritten entwickelt sich Sachsen zu einer der dynamischsten Life-Science-Regionen Deutschlands. 300 Akteure und 15.000 Mitarbeiter engagieren sich mittlerweile in Medizintechnik\, Biotechnologie und Pharmazie. Dementsprechend w&auml\;chst auch der Bedarf an Zulieferern und Dienstleistern\,etwa aus dem metallverarbeitenden Gewerbe\, der Kunststofftechnik oder auch der Softwareentwicklung.\nUnser Referent&nbsp\;Andr&eacute\; Hofmann stellt M&ouml\;glichkeiten und Ansatzpunkte vor\, wie Unternehmen der Wirtschaftsregion Chemnitz diesen Trend nutzen k&ouml\;nnen. Er ist Gesch&auml\;ftsf&uuml\;hrer vom&nbsp\;biosaxony e.V.\, dem gesamts&auml\;chsischen Verband f&uuml\;r Biotechnologie\, Medizintechnik und Gesundheitswirtschaft und Ihr Ansprechpartner f&uuml\;r m&ouml\;gliche Kooperationen.&nbsp\;Nach seiner Pr&auml\;sentation steht er Ihnen gern f&uuml\;r Fragen zur Verf&uuml\;gung.\nZur Anmeldung gelangen Sie&nbsp\;HIER.&nbsp\;\n\n\n\n\n\n&nbsp\;\n\n\n\n\n
END:VEVENT
END:VCALENDAR
