BEGIN:VCALENDAR
VERSION:2.0
PRODID:-//YourOrganization//EventDownload//DE
CALSCALE:GREGORIAN
METHOD:PUBLISH
BEGIN:VEVENT
UID:69e52a4b43e9d@leapup.bitshifters.cloud
DTSTAMP:20260419T211731Z
DTSTART:20240423T080000Z
DTEND:20240424T180000Z
SUMMARY:WeACT Con 2024 - Das Forum für Nachhaltigkeit im Gesundheitswesen
DESCRIPTION:Gesundheit &ndash\; Umwelt &ndash\; Nachhaltigkeit: Die Top-Themen unserer Zeit fordern auch das Gesundheitswesen zum Handeln auf\nDeswegen schaffen wir ein Forum\, um alle Akteur*innen aus dem Gesundheitswesen zusammenzubringen. Die Kongressreihe WeACT Con setzt dabei die drei Themenfelder Gesundheit\, Klima und Umwelt ganzheitlich auf die Agenda\, mit Blick auf das gesamte Gesundheitssystem.\nFokusthemen\, die auf der WeACT Con diskutiert werden:\n\nWie k&ouml\;nnen wir unser Gesundheitssystem gemeinschaftlich weiterentwickeln?\nWelche Zielkonflikte gibt es und welche Handlungsfelder ergeben sich daraus?\nWo existieren schon heute praktikable und umweltfreundliche L&ouml\;sungen und wie funktionieren sie?\nWas braucht es\, um gemeinsam ins Handeln zu kommen?\n\nUnser Ziel ist es\, j&auml\;hrlich auf der WeACT Con zusammenzukommen\, um Erfahrungen und Impulse auszutauschen\, interdisziplin&auml\;r in den Dialog zu treten und L&ouml\;sungen zu diskutieren. Gemeinsam wollen wir f&uuml\;r das Gesundheitswesen vorangehen.\nJetzt anmelden!
LOCATION:EUREF-Campus-Berlin\, EUREF-Campus 1-25\, 10829 Berlin
END:VEVENT
END:VCALENDAR
