BEGIN:VCALENDAR
VERSION:2.0
PRODID:-//YourOrganization//EventDownload//DE
CALSCALE:GREGORIAN
METHOD:PUBLISH
BEGIN:VEVENT
UID:69e526c66f646@leapup.bitshifters.cloud
DTSTAMP:20260419T210230Z
DTSTART:20250223T100000Z
DTEND:20250226T170000Z
SUMMARY:Web-Gipfel Katar
DESCRIPTION:Der Web Summit Qatar ist eine neue Ausgabe der renommierten Technologiekonferenz\, die 2025 erstmals in Doha\, Katar\, stattfindet. Diese Veranstaltung erweitert das globale Netzwerk des Web Summit und bringt f&uuml\;hrende Unternehmen\, Startups\, Investoren und Entscheidungstr&aumlger aus der Tech-Branche in der MENA-Region zusammen\, um Innovationen\, Trends und Herausforderungen der digitalen Welt zu diskutieren.\nDie Themen umfassen unter anderem:\n\nK&uuml\;nstliche Intelligenz\nCybersicherheit\nFintech\nNachhaltigkeit\nSmart Cities\nE-Commerce\n\n... und viele weitere Zukunftstechnologien. Neben Vortr&auml\;gen und Panels bietet der Web Summit Qatar exklusive Networking-M&ouml\;glichkeiten\, Startup-Wettbewerbe und Ausstellungen neuer Technologien &ndash\; mit einem besonderen Fokus auf die dynamische Entwicklung der Tech-Branche im Nahen Osten.\nWeitere Informationen zu der Veranstaltung finden Sie hier.
LOCATION:Doha Exhibition and Convention Center (DECC)\, West Bay\, Doha
END:VEVENT
END:VCALENDAR
