BEGIN:VCALENDAR
VERSION:2.0
PRODID:-//YourOrganization//EventDownload//DE
CALSCALE:GREGORIAN
METHOD:PUBLISH
BEGIN:VEVENT
UID:69e5a9c92aef0@leapup.bitshifters.cloud
DTSTAMP:20260420T062129Z
DTSTART:20210427T090000Z
DTEND:20210429T160000Z
SUMMARY:Web-Seminar für Prüflaboratorien im Bereich Lebensmittelmikrobiologie: Validierung\, Verifizierung und Ermittlung der Messunsicherheit
DESCRIPTION:In diesem&nbsp\;Web-Seminar&nbsp\;lernen Sie\, wie quantitative Pr&uuml\;fverfahren nach ISO 16140 validiert bzw. verifiziert werden\, und wie die Messunsicherheit nach ISO 19036 ermittelt wird.\nSie k&ouml\;nnen sich entweder f&uuml\;r das gesamte Web-Seminar&nbsp\;anmelden oder f&uuml\;r einzelne Tage.\nDas Web-Seminar umfasst drei&nbsp\;Online-Sitzungen\, die am&nbsp\;27. April\, am 28. April und am 29. April 2021&nbsp\;stattfinden.&nbsp\;Die Vortragsinhalte umfassen ca. 3-4 Stunden pro Tag\, hinzu kommen zwei Pausen.\nHier finden Sie eine &Uuml\;bersicht &uuml\;ber die Verteilung der Themen:\n27. April: Verifizierung28. April: Messunsicherheit29. April: Validierung\nNach allen Vortr&auml\;gen gibt es f&uuml\;r Interessierte die M&ouml\;glichkeit\, Fragen zu Theorie und Praxis zu stellen.\nDie Teilnahmegeb&uuml\;hren betragen pro Online-Sitzung 300\,- &euro\; netto. Der Gesamtpreis f&uuml\;r die Web-Seminarreihe betr&auml\;gt 900\,- &euro\; netto.\nWerfen Sie einen Blick in das Programm: https://quodata.de/sites/default/files/qs-lebensmittel-mikrobiologie-webinarreihe-april-2021.pdf#0\nAnmeldungen werden bis zum 20. April 2021 entgegengenommen. Bitte senden Sie eine E-Mail mit Ihrem Namen und Terminwunsch an wanda.waelisch@quodata.de.\n&nbsp\;
LOCATION:QuoData GmbH Quality&Statistics\, Prellerstraße 14\, 01309 Dresden
END:VEVENT
END:VCALENDAR
