BEGIN:VCALENDAR
VERSION:2.0
PRODID:-//YourOrganization//EventDownload//DE
CALSCALE:GREGORIAN
METHOD:PUBLISH
BEGIN:VEVENT
UID:69e51fad75456@leapup.bitshifters.cloud
DTSTAMP:20260419T203213Z
DTSTART:20241204T090000Z
DTEND:20241204T160000Z
SUMMARY:Web-Seminar zu Qualitätsregelkarten im Lebensmittellabor
DESCRIPTION:Web-Seminar zu Qualit&auml\;tsregelkarten im Lebensmittellabor04. Dezember 2024Dieses Web-Seminar vermittelt Ihnen die Verwendung Regelkarten im Lebensmittellabor.\nZeit:&nbsp\;04. Dezember 2024\, 9 &ndash\; 16 Uhr\nReferenten:&nbsp\;Dr. Karina Hettwer\n&Uuml\;berblick:\nWof&uuml\;r werden Regelkarten verwendet?Welche Arten von Regelkarten gibt es - in welchen Bereichen werden sie eingesetzt?&nbsp\;Was kann als Kontrollprobe verwendet werden?Wie sollten die Regelkarten aufgebaut sein? Was ist zu beachten?Was sind Au&szlig\;erkontrollsituationen und wie werden sie behandelt?technische Umsetzung: Excel/ andere Tools anhand von Beispielen aus dem LebensmittellaborZielgruppe:\nLaborleiter\, QMB und Labormitarbeiter von Pr&uuml\;flaboratorien im LebensmittelbereichDer Gesamtpreis f&uuml\;r das&nbsp\;Web-Seminar&nbsp\;betr&auml\;gt&nbsp\;400\,- &euro\;&nbsp\;netto.\nWeitere Informationen
END:VEVENT
END:VCALENDAR
