BEGIN:VCALENDAR
VERSION:2.0
PRODID:-//YourOrganization//EventDownload//DE
CALSCALE:GREGORIAN
METHOD:PUBLISH
BEGIN:VEVENT
UID:69e4e24f89cc6@leapup.bitshifters.cloud
DTSTAMP:20260419T161023Z
DTSTART:20241126T090000Z
DTEND:20241127T160000Z
SUMMARY:Web-Seminar zur Inhouse-Validierung und Qualitätssicherung von Messverfahren mit InterVAL
DESCRIPTION:Web-Seminar zur Inhouse-Validierung und Qualit&auml\;tssicherung von Messverfahren mit InterVAL&nbsp\;26. - 27. November 2024&nbsp\;\nDieses Web-Seminar vermittelt Ihnen die Grundlagen der In-house Validierung und Qualit&auml\;tssicherung\, mit denen Sie die Leistungsf&auml\;higkeit Ihres Messverfahrens und die Rechtssicherheit Ihrer Analyseergebnisse belegen k&ouml\;nnen.\nErfahren Sie wie Sie Ihre Methoden gem&auml\;&szlig\; der Verordnung&nbsp\;CIR 2021/808&nbsp\;(Commission Implementing Regulation)&nbsp\;validieren.&nbsp\;\nZeit:&nbsp\;26. - 27. November 2024\, 9 - 16 Uhr\nReferenten&nbsp\;Dr. Karina Hettwer\, Dipl.-Math. Bertrand Colson\nKosten:&nbsp\;650\,- &euro\; netto pro Teilnehmer\nOverview:\nMethodenvalidierung: Definitionen und KonzepteIn-house Validierung nach CIR 2021/808&nbsp\;Validierungsparameter nach CIR 2021/808&nbsp\;Berechnung von CC&alpha\; f&uuml\;r Best&auml\;tigungsverfahren&nbsp\;Berechnung von CCb und Decision value f&uuml\;r ScreeningverfahrenKalibrierung nach DIN 32645 und ISO 11843Zielgruppe:\nLaborleiter und Laborpersonal von beh&ouml\;rdlichen Pr&uuml\;flaboratorien\, die Analysemethoden f&uuml\;r R&uuml\;ckst&auml\;nde pharmakologisch wirksamer Stoffe in zur Lebensmittelerzeugung genutzten Tieren anwenden und validierenInterVAL-NutzerInteressierte Laborleiter und Labormitarbeiter aus privaten und &ouml\;ffentlichen/beh&ouml\;rdlichen Pr&uuml\;flabors in den Bereichen Lebens- und Futtermittel\, Umwelt\, Forensik oder MedizinProfitieren Sie vom Austausch mit anderen Teilnehmern und QuoData-Experten in verschiedenen Diskussionen.\nAlles was Sie zur Teilnahme brauchen\, ist eine stabile Internetverbindung\, ein Headset und ein MikrofonDie Teilnahmegeb&uuml\;hr betr&auml\;gt&nbsp\;650\,- &euro\;&nbsp\;netto
END:VEVENT
END:VCALENDAR
