BEGIN:VCALENDAR
VERSION:2.0
PRODID:-//YourOrganization//EventDownload//DE
CALSCALE:GREGORIAN
METHOD:PUBLISH
BEGIN:VEVENT
UID:69e51fad868e3@leapup.bitshifters.cloud
DTSTAMP:20260419T203213Z
DTSTART:20241203T090000Z
DTEND:20241203T160000Z
SUMMARY:Web-Seminar zur Prüfmittelüberwachung
DESCRIPTION:Web-Seminar zur Pr&uuml\;fmittel&uuml\;berwachung03. Dezember 2024Dieses Web-Seminar vermittelt Ihnen Fachwissen in der Pr&uuml\;fmittel&uuml\;berwachung.\nZeit:&nbsp\;03. Dezember 2024\, 9 &ndash\; 14 Uhr\nReferenten:&nbsp\;Martin J&auml\;hne\n&Uuml\;berblick:\nNormen\, Begriffe und DefinitionenPr&uuml\;fmittel&uuml\;berwachung in der Praxis IPr&uuml\;fmittel&uuml\;berwachung in der Praxis IISchlussbesprechung und FragenZielgruppe:\nLaborleiter\, QMB und Labormitarbeiter von Pr&uuml\;flaboratorien im LebensmittelbereichDer Gesamtpreis f&uuml\;r das&nbsp\;Web-Seminar&nbsp\;betr&auml\;gt&nbsp\;350\,- &euro\;&nbsp\;netto.\nWeitere Informationen
END:VEVENT
END:VCALENDAR
