BEGIN:VCALENDAR
VERSION:2.0
PRODID:-//YourOrganization//EventDownload//DE
CALSCALE:GREGORIAN
METHOD:PUBLISH
BEGIN:VEVENT
UID:69e4dedbb90f3@leapup.bitshifters.cloud
DTSTAMP:20260419T155539Z
DTSTART:20240910T090000Z
DTEND:20240917T160000Z
SUMMARY:Web-Seminar zur Verifizierung\, Validierung und Ermittlung der Messunsicherheit für quantitative & qualitative mikrobiologische Prüfverfahren
DESCRIPTION:Erfahren Sie\, wie Sie quantitative und qualitative mikrobiologische Testverfahren nach&nbsp\;ISO 16140&nbsp\;validieren und verifizieren\, und wie Sie die Messunsicherheit nach&nbsp\;ISO 19036&nbsp\;ermitteln.\nZeit:&nbsp\;10. - 11. &amp\; 17. September 2024\, 9 &ndash\; 16 Uhr&nbsp\;\nReferenten:&nbsp\;Dr. Karina Hettwer\, Dipl.-Math. Bertrand Colson\nPreis:&nbsp\;550\,- &euro\; netto pro Tag und pro Teilnehmer\, alle Tage sind einzeln oder zusammen buchbar.&nbsp\;Gesamtpreis 1650\,- &euro\; netto\n&Uuml\;berblick:\nBitte beachten Sie\, dass die drei Web-Seminar Tage auf zwei Wochen aufgeteilt wurden!\nTag 1\, 10. September 2024: Verifizierung quantitativer und qualitativer mikrobiologischer Testverfahren\nTag 2\, 11. September 2024: Inhouse-Validierung quantitativer und qualitativer mikrobiologischer Testverfahren\nTag 3\, 17. September 2024: Bewertung der Messunsicherheit quantitativer mikrobiologischer Testergebnisse&nbsp\;Zielgruppe:\nLaborleiter und Labormitarbeiter von privaten und &ouml\;ffentlichen/amtlichen Pr&uuml\;flaboratorien im Bereich Mikrobiologie\, insbesondere LebensmittelmikrobiologieInteressierte Mitarbeiter und Wissenschaftler von ForschungseinrichtungenInteressierte Mitarbeiter und Wissenschaftler aus den Bereichen Tiermedizin\, Krankenhaushygiene\, Umwelt- und AgrarwissenschaftenProfitieren Sie vom Austausch mit den anderen Teilnehmern und den Experten der QuoData in verschiedenen Diskussionen.\nZur Teilnahme werden nur eine stabile Internetverbindung\, ein Headset und ein Mikrofon ben&ouml\;tigtDie Teilnahmegeb&uuml\;hr betr&auml\;gt pro Teilnehmer und Tag&nbsp\;550\,-&euro\;&nbsp\;nettoPr&auml\;sentationsfolien&nbsp\;und Teilnahmezertifikat sind im Preis inbegriffen&nbsp\;\nErhalten Sie&nbsp\;exklusiv &amp\; kostenlos&nbsp\;einen Zugang zur QuoData&nbsp\;App&nbsp\;&micro\;-KPI&nbsp\;- die App\, die Ihnen die Anwendung der Protokolle der ISO 16140 erheblich erleichtert und Sie schnell und bequem durch Ihre individuelle Studienplanung f&uuml\;hrt (mit Report\, Interpretation und inklusive eines Vergleiches mit Akzeptanzkriterien).\n\nZur Anmeldung\n
END:VEVENT
END:VCALENDAR
