BEGIN:VCALENDAR
VERSION:2.0
PRODID:-//YourOrganization//EventDownload//DE
CALSCALE:GREGORIAN
METHOD:PUBLISH
BEGIN:VEVENT
UID:69e509e9cb9a3@leapup.bitshifters.cloud
DTSTAMP:20260419T185921Z
DTSTART:20250526T090000Z
DTEND:20250527T110000Z
SUMMARY:WEBINAR: CO2-Fußabdruck in der Dünnschichttechnik | Herausforderungen für Wirtschaft und Wissenschaft
DESCRIPTION:Im Workshop werden grundlegende Kenntnisse zur Regulatorik und Berichtspflicht vermittelt. Vorhandene Hilfsmittel zur Berechnung der Pr&uuml\;fwerte und Ermittlung von Kennzahlen werden vorgestellt. In diesem Zusammenhang sollen Herausforderungen und offene Fragen speziell f&uuml\;r die Oberfl&auml\;chen- und Vakuumtechnik identifiziert und diskutiert werden. Die Veranstaltung bietet eine Diskussionsplattform f&uuml\;r aktuelle Anforderungen an Firmen aus den verschiedenen Blickwinkeln der Wertsch&ouml\;pfungskette und inspiriert zu neuen Entwicklungen hin zu einer CO2-neutralen Wirtschaft durch innovative Strategien der Prozessgestaltung.\nMehr Informationen finden Sie hier!
LOCATION:Online-Veranstaltung\, -
END:VEVENT
END:VCALENDAR
