BEGIN:VCALENDAR
VERSION:2.0
PRODID:-//YourOrganization//EventDownload//DE
CALSCALE:GREGORIAN
METHOD:PUBLISH
BEGIN:VEVENT
UID:69e4d65c61e1c@leapup.bitshifters.cloud
DTSTAMP:20260419T151924Z
DTSTART:20250514T100000Z
DTEND:20250514T120000Z
SUMMARY:Webinar: Effiziente Laborautomatisierung - Präzise dsDNA-Größenauswahl und Extraktion
DESCRIPTION:Steigern Sie die Effizienz Ihres Labors mit Expertenunterstützung von Analytik Jena und Promega\nEntdecken Sie den CyBio FeliX Liquid Handler von Analytik Jena als zuverlässige Automatisierungslösung für die dsDNA-Größenauswahl im Hochdurchsatz mit Promega-Reagenzien. Erhalten Sie einen detaillierten Einblick in die vielseitigen Möglichkeiten des CyBio FeliX\, von spezifischen Gerätekonfigurationen bis hin zur Hochdurchsatz-Extraktion in einem kompakten Benchtop-Automatisierungssetup. Der CyBio FeliX Liquid Handler bietet Flexibilität und Präzision in der Laborautomatisierung. Mit seiner benutzerfreundlichen Software und anpassbaren Protokollen lässt er sich nahtlos in bestehende Arbeitsabläufe integrieren. Das macht ihn zur idealen Wahl für Labore\, die ihre Effizienz steigern und gleichzeitig qualitativ hochwertige Ergebnisse erzielen wollen. In Verbindung mit dem ProNex&reg\; Größenselektiven Aufreinigungssystem ermöglicht das CyBio FeliX eine effiziente dsDNA-Größenselektion und -Extraktion&mdash\;einfach und präzise. Die nahtlose Integration dieser Technologien gewährleistet konsistente und zuverlässige Extraktionen für reproduzierbare\, qualitativ hochwertige NGS- oder PCR-Ergebnisse.Speaker:Andreas Kronberg\,&nbsp\;Manager Business Development &amp\; Partnering\, Analytik Jena GmbH+Co. KGDr. Thorsten Stehlik\,&nbsp\;Technical Support Scientist\, Promega GmbH\n&nbsp\;\nLesen Sie mehr über das Webinar durch einen Klick hier!
LOCATION:Promega GmbH\, Gutenbergring 10\, 69190 Walldorf
END:VEVENT
END:VCALENDAR
