BEGIN:VCALENDAR
VERSION:2.0
PRODID:-//YourOrganization//EventDownload//DE
CALSCALE:GREGORIAN
METHOD:PUBLISH
BEGIN:VEVENT
UID:69e50f28b22e3@leapup.bitshifters.cloud
DTSTAMP:20260419T192144Z
DTSTART:20250430T150000Z
DTEND:20250430T160000Z
SUMMARY:Webinar: Erweiterte Qualifikation von smarten Vibrationssensoren zur Optimierung von IoT-Anwendungen
DESCRIPTION:Smarte Vibrationssensoren werden unter anderem bei der Infrastruktur&uuml\;berwachung in Smart Cities sowie im Bereich Condition Monitoring an Maschinen und Industrieanlagen eingesetzt. Die verwandten Sensoren basieren oft auf Microelektronischen Sensoren (MEMS)\, die zwar als Bauelement in der Produktion getestet werden\, jedoch im fertigen Sensorsystem mitunter andere Vibrationseigenschaften aufweisen. Im Webinar erfahren Sie\, wie die 3D-Laservibrometrie eingesetzt werden kann\, um die schwingungstechnischen Eigenschaften des Gesamtsystems zu untersuchen\, die Entwicklung zu unterst&uuml\;tzen und die Leistung zu optimieren.&nbsp\;\nDie Webinar-Sprache ist Deutsch.\nWeitere Informationen zur Veranstaltung finden Sie hier.\n&nbsp\;
LOCATION:Fraunhofer IIS\, Institutsteil Entwicklung Adaptiver Systeme EAS\, online\, Dresden
END:VEVENT
END:VCALENDAR
