BEGIN:VCALENDAR
VERSION:2.0
PRODID:-//YourOrganization//EventDownload//DE
CALSCALE:GREGORIAN
METHOD:PUBLISH
BEGIN:VEVENT
UID:69e4c26f0e4a6@leapup.bitshifters.cloud
DTSTAMP:20260419T135423Z
DTSTART:20250521T150000Z
DTEND:20250521T160000Z
SUMMARY:Webinar: Evaluierung von LLM-Agenten: Metriken\, Methoden und praktische Beispiele
DESCRIPTION:Tauchen Sie ein in die Welt der Evaluierung von Large Language Model (LLM)-Agenten mit dem Schwerpunkt auf praktischen Erkenntnissen und umsetzbaren Strategien. In diesem Webinar werden die wichtigsten Bewertungsmetriken und -methoden zur Beurteilung der Leistung\, Zuverlässigkeit und Effektivität von LLM-Agenten in verschiedenen Anwendungen behandelt. Sie erhalten ein umfassendes Verständnis für die Entwicklung von Bewertungsrahmen\, die sich an realen Anwendungsfällen orientieren. Anhand von praktischen Beispielen und Fallstudien lernen Sie\, Optimierungsbereiche zu identifizieren\, die Übereinstimmung mit den Erwartungen der Nutzer sicherzustellen und das volle Potenzial von LLM-basierten Lösungen für Ihre Geschäfts- oder Forschungsziele zu erschließen.\n&nbsp\;\nWeitere Informationen über die Veranstaltung finden Sie hier.
LOCATION:online\, Dresden
END:VEVENT
END:VCALENDAR
