BEGIN:VCALENDAR
VERSION:2.0
PRODID:-//YourOrganization//EventDownload//DE
CALSCALE:GREGORIAN
METHOD:PUBLISH
BEGIN:VEVENT
UID:69e4c84cc6c45@leapup.bitshifters.cloud
DTSTAMP:20260419T141924Z
DTSTART:20251029T130000Z
DTEND:20251029T170000Z
SUMMARY:Webinar: Haftung in MedTec
DESCRIPTION:\n \n\nInhalt\n\nRelevante Bereiche vonlegal Haftung (kriminell gesetzlich\, Zivilrecht Recht\, public law) und ihre Folgen\nAufgaben zu abwenden Gefahr und ihre Relevanz zu Haftbarkeit\nOffizielle Verbote und Forderungen\nProdukt Haftung zu Benutzer und operators \nStraftaten Straftaten\, administrative offenses\nHedging Risiken Durch Risiko Management und Vertrag Entwurf\nHaftung nach demdeutschen Heilmittelwerbegesetz Gesetz und im die Fall von Outsourcing Prozesse zu dritten Parteien oder OEM Vertrag Entwurf\n\n\n\n\n\nSprecher: Prof. Dr. Boris Handorn \nKosten: 50€ Mitglieder\, 100€ Nicht-Mitglieder\n\n
END:VEVENT
END:VCALENDAR
