BEGIN:VCALENDAR
VERSION:2.0
PRODID:-//YourOrganization//EventDownload//DE
CALSCALE:GREGORIAN
METHOD:PUBLISH
BEGIN:VEVENT
UID:69e4e24fcb81f@leapup.bitshifters.cloud
DTSTAMP:20260419T161023Z
DTSTART:20241022T100000Z
DTEND:20241022T110000Z
SUMMARY:Webinar: HP – Ihr Partner für 3D-Druck in der Medizintechnik
DESCRIPTION:Erfahren Sie in unserem Webinar &bdquo\;HP - Ihr Partner f&uuml\;r 3D-Druck in der Medizintechnik&ldquo\;\, warum der 3D-Druck gerade f&uuml\;r die Medizintechnik so interessant ist. Experten des 3D-Druckerherstellers HP\, des Startup-Accelerators Medical Forge Leipzig und des Startups NEXT3D in Kooperation mit dem Universit&auml\;tsklinikum Leipzig stellen Ihnen exklusiv praxisnahe Anwendungen und innovative L&ouml\;sungen vor.\nErfahren Sie beispielsweise\, wie ma&szlig\;geschneiderte 3D-Drucktechnologien chirurgische Eingriffe pr&auml\;zisieren\, Behandlungsprozesse optimieren und wie der 3D-Druck dazu beitr&auml\;gt\, eine patientenindividuelle Versorgung zu erm&ouml\;glichen. Nutzen Sie die Gelegenheit\, einen tiefen Einblick in die 3D-Drucktechnologien Multi Jet Fusion von HP zu erhalten und sich &uuml\;ber die neuesten Trends zu informieren.\nMelden Sie sich hier an!
END:VEVENT
END:VCALENDAR
