BEGIN:VCALENDAR
VERSION:2.0
PRODID:-//YourOrganization//EventDownload//DE
CALSCALE:GREGORIAN
METHOD:PUBLISH
BEGIN:VEVENT
UID:69e53de3e0b11@leapup.bitshifters.cloud
DTSTAMP:20260419T224107Z
DTSTART:20240126T090000Z
DTEND:20240126T140000Z
SUMMARY:Webinar Medziniprodukteberater nach §83 MPDG mit Zertifikat
DESCRIPTION:Medizinprodukteberater ist nach dem &sect\; 83 MPDG\, wer Fachkreise fachlich &uuml\;ber Medizinprodukte informiert oder in deren sachgerechte Handhabung einweist. Die Anforderungen\, Aufgaben und Verantwortlichkeiten sind im Medizinprodukterecht-Durchf&uuml\;hrungsgesetz (MPDG) genau festgelegt. Vorgeschrieben ist der Abschluss f&uuml\;r alle Mitarbeiter mit Kundenkontakt (auch Innendienst und Service)\, wenn diese &uuml\;ber die Produkte des Unternehmens informieren oder einweisen.\nDas MPDG schreibt vor\, dass sich Medizinprodukteberater regelm&auml\;&szlig\;ig schulen lassen m&uuml\;ssen.\nNeben der Erf&uuml\;llung gesetzlicher Vorgaben k&ouml\;nnen Medizinprodukteberater mit Kenntnis der Hintergr&uuml\;nde ihre Kunden besser beraten und damit zum Unternehmenserfolg beitragen. Kenntnisse regulatorischer Abl&auml\;ufe und deren Einhaltung vermindern Risiken f&uuml\;r das Unternehmen und unterst&uuml\;tzen damit den langfristigen Unternehmenserfolg.\nIm Seminar wird umfangreich auf die Medizinprodukteverordnung (MDR &ndash\; Medical Device Regulation) eingegangen.\nIm Seminar gehen wir auf den aktuellen Stand der Umsetzung der neuen Medizinprodukteverordnung (MDR) ein\, auf &Auml\;nderungen und Herausforderungen.\nMit vielen Beispielen aus der Zulassungen und dem Vertrieb von Medizinprodukten wird die &bdquo\;trockene&ldquo\; Materie anschaulich vermittelt und gibt den Teilnehmern anwendungsbereites Wissen f&uuml\;r die t&auml\;gliche Arbeit mit Kundenkontakt.\nNach dem Webinar und bestandenem Test erhalten alle Teilnehmer ein Zertifikat nach &sect\;83 MPDG.\nWeitere Informationen
LOCATION:Internet\, Leipzig
END:VEVENT
END:VCALENDAR
