BEGIN:VCALENDAR
VERSION:2.0
PRODID:-//YourOrganization//EventDownload//DE
CALSCALE:GREGORIAN
METHOD:PUBLISH
BEGIN:VEVENT
UID:69e4c4b4205a3@leapup.bitshifters.cloud
DTSTAMP:20260419T140404Z
DTSTART:20240605T150000Z
DTEND:20240605T160000Z
SUMMARY:Webinar: Prototyping and Validation of Perception Sensor Systems  
DESCRIPTION:Umfeldsensoren sind das R&uuml\;ckgrat der meisten adaptiven Systeme\, z. B. in autonomen Fahrzeugen\, Robotern\, in der industriellen Automatisierung oder bei Qualit&auml\;tskontrollsysteme. In diesem Webinar erhalten Sie einen &Uuml\;berblick &uuml\;ber g&auml\;ngige Sensorprinzipien\, wie z. B. (Stereo-)Kamera\, LiDAR\, Radar\, Ultraschall sowie etablierte Verarbeitungsalgorithmen. Wir werden uns ansehen\, wie man effizient Prototypen von Umfeldsensoranwendungen erstellt und diese in der virtuellen und realen Welt validiert. Die theoretische Einf&uuml\;hrung wird durch praktische Beispiele und Anwendungsf&auml\;lle untermauert. Dies wird Ihnen helfen\, die richtige Designentscheidung zu treffen oder neue Ideen zu entwickeln\, wie Umfeldsensoren Ihre Aufgaben oder die Ihrer Kunden automatisieren k&ouml\;nnen.\nDie Webinarsprache ist Englisch.\nJetzt anmelden
LOCATION:Fraunhofer IIS/EAS\, Münchener Straße 16\, 01069 Dresden
END:VEVENT
END:VCALENDAR
