BEGIN:VCALENDAR
VERSION:2.0
PRODID:-//YourOrganization//EventDownload//DE
CALSCALE:GREGORIAN
METHOD:PUBLISH
BEGIN:VEVENT
UID:69e509ea6558f@leapup.bitshifters.cloud
DTSTAMP:20260419T185922Z
DTSTART:20250604T150000Z
DTEND:20250604T160000Z
SUMMARY:Webinar: Qualitätssicherung und Leistungsoptimierung smarter Vibrationssensoren für IoT-Anwendungen
DESCRIPTION:Smarte Vibrationssensoren spielen eine Schl&uuml\;sselrolle in IoT-Anwendungen\, von der Infrastruktur&uuml\;berwachung in Smart Cities bis zum Condition Monitoring in der Industrie. Als Anwender\, Systemintegrator oder Entscheider stehen Sie vor der Herausforderung\, die Eignung und Qualit&auml\;t dieser Sensoren f&uuml\;r Ihren spezifischen Einsatzzweck zu bewerten. Im Webinar erfahren Sie\, wie die tats&auml\;chlichen Leistungsmerkmale smarter Sensorsysteme mithilfe hochwertiger Laborausstattung wie Shaker\, 3D-Laservibrometer und digitaler Datenerfassung untersucht werden. Anhand von Fallbeispielen zeigen wir auf\, wie versteckte M&auml\;ngel aufgedeckt und wertvolle Empfehlungen zur Designoptimierung abgeleitet werden k&ouml\;nnen. Gewinnen Sie Einblicke in effektive Methoden zur Qualifikation Ihrer Sensorik und sichern Sie die optimale Performance Ihrer IoT-L&ouml\;sungen.\nWeitere Informationen\n&nbsp\;
LOCATION:Fraunhofer EAS/IIS\, Münchner Straße 16\, 01187 Dresden
END:VEVENT
END:VCALENDAR
