BEGIN:VCALENDAR
VERSION:2.0
PRODID:-//YourOrganization//EventDownload//DE
CALSCALE:GREGORIAN
METHOD:PUBLISH
BEGIN:VEVENT
UID:69e5099ba00f1@leapup.bitshifters.cloud
DTSTAMP:20260419T185803Z
DTSTART:20250918T150000Z
DTEND:20250918T160000Z
SUMMARY:Webinar: Von der Idee bis zur Markteinführung (Startups)
DESCRIPTION:Webinar: Von der Idee bis zur Markteinführung (Startups)\n&gt\;&gt\; für Gründungsinteressierte und junge Unternehmen &lt\;&lt\;\nIhre Gastgeber: Julia Süß und René Preusche \nWebinar: Von der Idee bis zur Markteinführung (18. September 2025)
LOCATION:Online 
END:VEVENT
END:VCALENDAR
