BEGIN:VCALENDAR
VERSION:2.0
PRODID:-//YourOrganization//EventDownload//DE
CALSCALE:GREGORIAN
METHOD:PUBLISH
BEGIN:VEVENT
UID:69e4e23ac0e57@leapup.bitshifters.cloud
DTSTAMP:20260419T161002Z
DTSTART:20241203T120000Z
DTEND:20241203T153000Z
SUMMARY:Weihnachtsmarkt im Foyer der BIO CITY
DESCRIPTION:Beim Schlendern &uuml\;ber den weihnachtlichen Spendenmarkt k&ouml\;nnen Sie sich auf die Weihnachtszeit einstimmen und an zahlreichen bunten St&auml\;nden Kreatives aus eigener Herstellung\, Konfit&uuml\;re\, Lik&ouml\;re\, Pl&auml\;tzchen und vieles mehr von Mitarbeitenden der BIO CITY und anderen Einrichtungen des BioCity Campus erstehen.\nDie Einnahmen des&nbsp\;Weihnachtsmarktes werden dieses Jahr an den TiMMi ToHelp e. V. gespendet. Der Verein unterst&uuml\;tzt sozial schw&auml\;cher gestellte Menschen auf Augenh&ouml\;he.\nZum Schluss findet 15:00 Uhr&nbsp\;unser traditionelles&nbsp\;Adventsingen statt\, erneut mit dem Chor ChorAlle des&nbsp\;ZEOK e. V.. Bei manchen der Lieder sind Mitarbeitende und G&auml\;ste wieder eingeladen mitzusingen!
LOCATION:BIO CITY Leipzig\,  Deutscher Platz 5\, 04103 Leipzig
END:VEVENT
END:VCALENDAR
