BEGIN:VCALENDAR
VERSION:2.0
PRODID:-//YourOrganization//EventDownload//DE
CALSCALE:GREGORIAN
METHOD:PUBLISH
BEGIN:VEVENT
UID:69e52f6c3eff9@leapup.bitshifters.cloud
DTSTAMP:20260419T213924Z
DTSTART:20241205T120000Z
DTEND:20241205T180000Z
SUMMARY:Wie man Daten über medizinische Geräte in Erkenntnisse umwandelt und die Vorschriften einhält
DESCRIPTION:Sind Sie sicher\, dass Ihre aktuellen Datensysteme Geräte- und Patientendaten schützen und gleichzeitig die Innovation vorantreiben?&nbsp\;&nbsp\;\nKönnen Sie es sich leisten\, die Erkenntnisse zu verzögern\, die Ihre Geräte - und Ihr Unternehmen - verändern könnten?&nbsp\;&nbsp\;\nUnd was passiert\, wenn morgen eine Konformitätslücke aufgedeckt wird?\nWenn Ihnen diese Fragen Unbehagen bereiten\, sind Sie nicht allein.\nNehmen Sie an dem Webinar teil\, das MedTech-Führungskräfte auf keinen Fall verpassen dürfen: Wie man Daten von Medizinprodukten in Erkenntnisse verwandelt &amp\; wie man die Vorschriften einhält\nDieses Webinar richtet sich an Fachleute aus der Medizintechnik\, die den Wert ihrer Daten maximieren möchten. Unabhängig davon\, ob Sie ein Geschäftsinhaber sind\, in der Datenwissenschaft\, der Produktentwicklung oder der Einhaltung von Vorschriften arbeiten\, erhalten Sie umsetzbare Einblicke\, um die Komplexität der Datenanalyse und der Einhaltung von Vorschriften in der Medizinproduktebranche zu bewältigen.\nReservieren Sie jetzt Ihren Platz!
END:VEVENT
END:VCALENDAR
