BEGIN:VCALENDAR
VERSION:2.0
PRODID:-//YourOrganization//EventDownload//DE
CALSCALE:GREGORIAN
METHOD:PUBLISH
BEGIN:VEVENT
UID:69e5d27ecd24f@leapup.bitshifters.cloud
DTSTAMP:20260420T091510Z
DTSTART:20200618T090000Z
DTEND:20200619T170000Z
SUMMARY:Workshop "Design Thinking"
DESCRIPTION:biosaxony veranstaltet am 18. &amp\; 19. Juni 2020\, jeweils von 09:00-17:00 Uhr\, einen 2-t&auml\;gigen Design Thinking-Workshop in der BIO CITY LEIPZIG.&nbsp\;\nDesign Thinking ist ein dynamischer Prozess zur Bearbeitung von Herausforderungen und dem Generieren von Ideen. Er bezieht die laufend erhobenen Zwischenergebnisse in die Betrachtung mit ein. Dies erm&ouml\;glicht das Wiederholen von Schritten\, was einen wesentlich effizienteren Prozess gew&auml\;hrleistet als es eine statische Ist-Betrachtung mit daran anschlie&szlig\;ender Bearbeitung leisten k&ouml\;nnte. Au&szlig\;erdem stehen dabei die User im Fokus. Jede L&ouml\;sung\, die im Prozess entsteht\, soll aus deren Sicht &uuml\;berzeugen. In unserem Workshop werden wir uns mit den ersten beiden Phasen\, dem Problem- und dem L&ouml\;sungsraum befassen und einen Ausblick in die dritte Phase\, den Umsetzungsraum\, wagen. Sie werden verstehen\, wie sich Design Thinking in Ihrem Kontext anwenden l&auml\;sst und auch selbst mit dem Format vertraut gemacht\, um es in Ihrem Kontext anzuwenden.\nTrainer: Konrad Sell\nTEILNAHMEGEB&Uuml\;HR:BIOSAXONY-Mitglieder: 100\,00 &euro\; (netto)NICHT-Mitglieder: 175\,00 &euro\; (netto)\nANMELDUNG &amp\; TEILNAHMEBEDINGUNGEN:\nBitte nutzen Sie f&uuml\;r Ihre Anmeldung die hier verlinkte online Registrierung.\nAnmeldefrist ist der 16.06.2020.\nDie Teilnehmerzahl f&uuml\;r die Veranstaltung ist auf max. 4 Startups begrenzt. Anmeldungen werden in der Reihenfolge ihres Eingangs ber&uuml\;cksichtigt.\nEine Stornierung der Anmeldung bleibt bis zum jeweiligen Anmeldeschluss kostenfrei. Bei einer Stornierung nach dem Anmeldeschluss werden 50% des Kurspreises f&auml\;llig. Bei unentschuldigten Nichterscheinen ist der komplette Kurspreis f&auml\;llig.\nBitte beachten Sie hierf&uuml\;r auch die Veranstaltungs-AGB des biosaxony e. V.\n\n\n\n\n\nDie Ma&szlig\;nahme wird mitfinanziert mit Steuermitteln auf Grundlage des von den Abgeordneten des S&auml\;chsischen Landtags beschlossenen Haushalts.\n\n\n\n\n&nbsp\;
LOCATION:BIO CITY LEIPZIG\, Deutscher Platz 5c\, 04103 Leipzig
END:VEVENT
END:VCALENDAR
