BEGIN:VCALENDAR
VERSION:2.0
PRODID:-//YourOrganization//EventDownload//DE
CALSCALE:GREGORIAN
METHOD:PUBLISH
BEGIN:VEVENT
UID:69e4e5a6d8277@leapup.bitshifters.cloud
DTSTAMP:20260419T162438Z
DTSTART:20251202T000000Z
DTEND:20251203T000000Z
SUMMARY:Workshop “Diagnostik von Prozessplasmen”
DESCRIPTION:Zur Gewährleistung der Prozesssicherheit beim Einsatz der Plasmatechnik ist eine spezifische Prozesskontrolle unerlässlich. Zur Optimierung und damit letztlich auch zur Kostenreduktion der Fertigungsprozesse ist eine ständige Weiterentwicklung der relevanten Diagnostiken erforderlich.\nDieser Thematik widmet sich der Workshop “Diagnostik von Prozessplasmen: Möglichkeiten\, Grenzen und Anwendungen”. Aus renommierten Forschungseinrichtungen werden die neuesten Ergebnisse der Plasmadiagnostik vorgestellt und die Umsetzung bei einigen Industriepartnern aufgezeigt. Neben sehr speziellen diagnostischen Verfahren werden auch relativ einfach einsetzbare Methoden vorgestellt\, die für einen industrienahen Einsatz gut geeignet sind.\nWeitere Informationen
LOCATION:Fraunhofer-Institut für Organische Elektronik\, Elektronenstrahl- und Plasmatechnik FEP\, Winterbergstraße 28\, 01277 Dresden
END:VEVENT
END:VCALENDAR
