BEGIN:VCALENDAR
VERSION:2.0
PRODID:-//YourOrganization//EventDownload//DE
CALSCALE:GREGORIAN
METHOD:PUBLISH
BEGIN:VEVENT
UID:69e4c59009585@leapup.bitshifters.cloud
DTSTAMP:20260419T140744Z
DTSTART:20240514T000000Z
DTEND:20240515T000000Z
SUMMARY:Workshop „Drohendes Chrom (VI)-Verbot setzt die Industrie unter Druck | Perspektiven mit der Dünnschichttechnologie“
DESCRIPTION:Es gibt bisher wenige L&ouml\;sungen einer Substitution von Chrom (VI) mit einem vergleichbar breit aufgestelltem Anforderungsspektrum.\nDie EFDS m&ouml\;chte sich gemeinsam mit Partnern diesem Thema mit einem Workshop - &bdquo\;Chrom (VI) &ndash\; Verbot setzt die Industrie unter Druck &ndash\; Perspektiven mit der D&uuml\;nnschichttechnologie&ldquo\; - widmen.\nWeitere Informationen
LOCATION:Fraunhofer-Institut IWS\, Winterbergstraße 28\, 01277 Dresden
END:VEVENT
END:VCALENDAR
