BEGIN:VCALENDAR
VERSION:2.0
PRODID:-//YourOrganization//EventDownload//DE
CALSCALE:GREGORIAN
METHOD:PUBLISH
BEGIN:VEVENT
UID:69e973c3e02fc@leapup.bitshifters.cloud
DTSTAMP:20260423T032003Z
DTSTART:20140313T000000Z
DTEND:20140313T000000Z
SUMMARY:WORKSHOP eHealth Services Integrierte Versorgung quo vadis?
DESCRIPTION:
END:VEVENT
END:VCALENDAR
