BEGIN:VCALENDAR
VERSION:2.0
PRODID:-//YourOrganization//EventDownload//DE
CALSCALE:GREGORIAN
METHOD:PUBLISH
BEGIN:VEVENT
UID:69e5623d65625@leapup.bitshifters.cloud
DTSTAMP:20260420T011613Z
DTSTART:20230227T120000Z
DTEND:20230228T160000Z
SUMMARY:Workshop: Implantate – Wenn die Antwort in der Schicht steckt!
DESCRIPTION:Medizintechnik-Unternehmen sind ein wesentlicher Treiber des medizinischen Fortschritts mit intensivem Engagement in Forschung und Entwicklung. Im Durchschnitt investieren diese Unternehmen rund 9 Prozent ihres Umsatzes in Forschung und Entwicklung. Der medizintechnische Fortschritt ist das Ergebnis einer Vielzahl kontinuierlicher Verbesserungen am Produkt und Prozess. Deutschland ist dabei auf dem Weltmarkt bislang sehr erfolgreich.\nHinter vielen Medizintechnik-Trends stecken Oberfl&auml\;chen und Schichten. Kurz: es geht um Werkstoffe und Materialien. In der Biokompatibilit&auml\;t von Materialien finden immer noch rasante Entwicklung statt. Neue Herstellungsverfahren und moderne Verbundmaterialien im Zusammenhang mit den Beschichtungstechnologien sowie die Funktionalisierung von Oberfl&auml\;chen befeuern den Bereich in den letzten Jahren aber zunehmend.\nDieser Workshop bietet Ihnen eine optimale Plattform f&uuml\;r den Expertenaustausch zu diesen und weiteren Trends. Hier werden sich Experten detailliert austauschen k&ouml\;nnen\, ihre Erfahrungen teilen und Innovationen pr&auml\;sentieren.\nAls Referenten* begr&uuml\;&szlig\;en wir u.a.\n\nSebastian-Paul Kopp\, Bayrisches Laserzentrum GmbH\nDr. Thorsten Laube\, INNOVENT e.V.\nDr. Torsten Will\, Aalberts Surface Technologies GmbH\nProf. Dr.-Ing. habil. Aldo Boccaccini\, Universit&auml\;t Erlangen-N&uuml\;rnberg\nDr.-Ing. Natalia Beshchasna\, Fraunhofer Institut f&uuml\;r Keramische Technologien und Systeme IKTS\nJun Xu\, INNOVENT e.V.\nChristian Rotsch\, Fraunhofer-Institut f&uuml\;r Werkzeugmaschinen und Umformtechnik IWU\nDr. Andreas Mucha\, MAT PlasMATec\, MAT Medizintechnik UG\nRonny Bernstein\, BMF GmbH Gr&uuml\;na\nProf. Dr. Stephen Gilbert\, Else Kr&ouml\;ner Fresenius Center for Digital Health\, Technische Universit&auml\;t Dresden\nDr. Kristina Lachmann\, Fraunhofer-Institut f&uuml\;r Schicht- und Oberfl&auml\;chentechnik IST\nChristian Dipolt\, R&Uuml\;BIG GmbH &amp\; Co KG\nChristian Orgeldinger\, Universit&auml\;t Bayreuth\nDr. Frank Hempel\, Leibniz-Institut f&uuml\;r Plasmaforschung und Technologie e.V. (INP)\nDr. Antonio Santana\, IHI Ionbond AG\, Dulliken\, Schweiz\nUniv.-Prof. Dr. med. Stefan Jockenh&ouml\;vel\, Helmholtz Institute Aachen\, Center for Biohybrid Medical Systems\nDr. med. Jana Schwieger\, Medizinische Hochschule Hannover MHH\nDr. Georg Schnell\, Universit&auml\;t Rostock\nAndr&eacute\; Martin\, Technische Universit&auml\;t Chemnitz\n\n*&Auml\;nderungen vorbehalten\nDie Vortr&auml\;ge verteilen sich auf die Sessions:\n\nAdditive Fertigung\, Strukturierung und Simulation\nBioaktive\, antibakterielle und lebendige Beschichtungen\nGewebe-unterst&uuml\;tzende Implantate\nOberfl&auml\;chenvorbehandlung und D&uuml\;nnschichttechnik\nZukunft im Blick &ndash\; Digitaler Zwilling\n
LOCATION:Aesculap Akademie GmbH\, Bahnhofstraße 137 \, 78532 Tuttlingen
END:VEVENT
END:VCALENDAR
