BEGIN:VCALENDAR
VERSION:2.0
PRODID:-//YourOrganization//EventDownload//DE
CALSCALE:GREGORIAN
METHOD:PUBLISH
BEGIN:VEVENT
UID:69e53aeca7101@leapup.bitshifters.cloud
DTSTAMP:20260419T222828Z
DTSTART:20240227T000000Z
DTEND:20240228T000000Z
SUMMARY:Workshop „Implantate – Wenn die Antwort in der Schicht steckt!“
DESCRIPTION:Medizintechnik-Unternehmen&nbsp\;sind ein wesentlicher Treiber des medizinischen Fortschritts mit intensivem Engagement in Forschung und Entwicklung. Im Durchschnitt investieren diese Unternehmen rund 9 Prozent ihres Umsatzes in Forschung und Entwicklung. Der medizintechnische Fortschritt ist das Ergebnis einer Vielzahl kontinuierlicher Verbesserungen am Produkt und Prozess. Deutschland ist dabei auf dem Weltmarkt bislang sehr erfolgreich.\nHinter vielen Medizintechnik-Trends verbergen sich&nbsp\;Oberfl&auml\;chen&nbsp\;und Schichten. Kurz: es geht um Oberfl&auml\;chenkonditionierung\, Werkstoffe und Materialien. Zur Beeinflussung der Biokompatibilit&auml\;t von Materialien finden nach wie vor rasante Entwicklungen statt. Neue Herstellungsverfahren und moderne Verbundmaterialien im Zusammenhang mit den Beschichtungstechnologien sowie die Funktionalisierung von Oberfl&auml\;chen befeuern den Bereich in den letzten Jahren anhaltend. Neben der Modifizierung metallischer und keramischer Oberfl&auml\;chen k&ouml\;nnen auch organische Materialien\, insbesondere Polymere\, durch Hydrophilierung oder Hydrophobierung in ihrer Degradation und auch Vernetzung gezielt angepasst werden. Antimikrobielle Eigenschaften werden ebenso angestrebt\, wie eine Beschichtung mit biogenen\, organischen Komponenten\, um die Biokompatibilit&auml\;t zu erh&ouml\;hen.\nIn diesem Workshop &bdquo\;Implantate &ndash\; Wenn die Antwort in der Schicht steckt&ldquo\; nehmen wir uns der verschiedenen Implantat-Varianten und deren Oberfl&auml\;chen an. Dieser Workshop bietet Ihnen eine optimale Plattform f&uuml\;r den Expertenaustausch zu diesen und weiteren Trends. Hier werden sich Experten detailliert austauschen k&ouml\;nnen\, ihre Erfahrungen teilen und Innovationen pr&auml\;sentieren. Wir freuen uns auf Ihre Teilnahme.\nJETZT ANMELDEN
LOCATION:Aesculap Akademie GmbH\, Am Aesculap-Platz\, 78532 Tuttlingen
END:VEVENT
END:VCALENDAR
