BEGIN:VCALENDAR
VERSION:2.0
PRODID:-//YourOrganization//EventDownload//DE
CALSCALE:GREGORIAN
METHOD:PUBLISH
BEGIN:VEVENT
UID:69e53aec7eaa7@leapup.bitshifters.cloud
DTSTAMP:20260419T222828Z
DTSTART:20231128T090000Z
DTEND:20231129T150000Z
SUMMARY:Workshop „Innovationstreiber Oberflächentechnologie – Von der Simulation zur Beschichtung“
DESCRIPTION:Simulationen stellen einen sicheren Weg dar\, um &bdquo\;Was-w&auml\;re-wenn-Szenarien zu testen und zu untersuchen. Die Auswirkung von &Auml\;nderungen in der laufenden Prozesskette k&ouml\;nnen verstanden werden\, ohne die Produktion zu gef&auml\;hrden. Mit spezifischen Verfahren kann somit die zu behandelnde Oberfl&auml\;che auf ein bestimmtes Anforderungsprofil hin real optimiert werden und im ideal Fall weitere Funktionen erf&uuml\;llen.\nOberfl&auml\;chentechnologien f&uuml\;r die Oberfl&auml\;chenmodifizierung und Schichtabscheidung sind industriell etabliert und die meisten Produkte der Halbleitertechnik\, der Automobilindustrie\, der Medizintechnik etc. sind ohne technologische Prozessoptimierung- und anpassung heutzutage kaum vorstellbar. Unabdingbar bei der Optimierung der Prozesskette ist dabei die Digitalisierung sowie Diagnostik der analytischen Oberfl&auml\;chentechnologie.\nDieser Thematik widmet sich dieser Workshop &bdquo\;Innovationstreiber Oberfl&auml\;chentechnologie &ndash\; Von der Simulation zur Beschichtung&ldquo\;.\nZur Anmeldung
LOCATION:Best Western Hotel Kaiserslautern\, St.-Quentin-Ring 1\, Kaiserslautern
END:VEVENT
END:VCALENDAR
