BEGIN:VCALENDAR
VERSION:2.0
PRODID:-//YourOrganization//EventDownload//DE
CALSCALE:GREGORIAN
METHOD:PUBLISH
BEGIN:VEVENT
UID:69e9501d02eba@leapup.bitshifters.cloud
DTSTAMP:20260423T004757Z
DTSTART:20150318T000000Z
DTEND:20150318T000000Z
SUMMARY:Workshop Mikrostrukturanalytik\, Beschichtungstechnologien und Klebtechnik
DESCRIPTION:Der Workshop richtet sich an Ingenieure und Techniker aus den Bereichen Medizintechnik\, Elektrotechnik\, Fahrzeugbau und Bauwesen.\nDie Veranstaltung informiert Sie z. B. &uuml\;ber Innovative Kunststoffoberfl&auml\;chen\, Antibakterielle Lackierungen\, Kleben in Industrie und Handwerk.\nWeitere Informationen folgen.
END:VEVENT
END:VCALENDAR
