BEGIN:VCALENDAR
VERSION:2.0
PRODID:-//YourOrganization//EventDownload//DE
CALSCALE:GREGORIAN
METHOD:PUBLISH
BEGIN:VEVENT
UID:69e4f6f86fc6b@leapup.bitshifters.cloud
DTSTAMP:20260419T173832Z
DTSTART:20251218T130000Z
DTEND:20251218T143000Z
SUMMARY:Workshop: PRRC-Schulung
DESCRIPTION:\n\n\n\nInhalt: \n\n\n\n\nWer braucht eine PRRC? \n\n\n\n\n\n\nQualifikation des PRRC \n\n\n\n\n\n\nAktivitäten/Verantwortlichkeiten des PRRC \n\n\n\n\n\n\nTechnische Dokumentation\, Konformitätserklärung\, Überwachung nach dem Inverkehrbringen\, Vigilanz und Berichterstattung \n\n\n\n\n\n\nFinden und Benennen einer PRRC \n\n\n\nSprecherprofil: \n\n\nKatja Krempler ist promovierte Biologin und verfügt über langjährige Erfahrung im Qualitätsmanagement\, Regulatory Affairs und der Zulassung von Medizinprodukten. Nach ihrer Tätigkeit als Regulatory Affairs Manager und QMB bei einem Start-up in Leipzig ist sie seit 2024 bei leap:up tätig\, wo sie Start-ups und KMUs in den Bereichen Qualitätsmanagementsysteme\, technische Dokumentation und regulatorische Fragen unterstützt. \n\n\n\n\n\n\n\nspeaker: Dr. Katja Krempler \nKosten: 50\,00€ Mitglieder\, 100\,00€ Nicht-Mitglieder \n\n
END:VEVENT
END:VCALENDAR
