BEGIN:VCALENDAR
VERSION:2.0
PRODID:-//YourOrganization//EventDownload//DE
CALSCALE:GREGORIAN
METHOD:PUBLISH
BEGIN:VEVENT
UID:69e4f960c7d52@leapup.bitshifters.cloud
DTSTAMP:20260419T174848Z
DTSTART:20250408T000000Z
DTEND:20250409T000000Z
SUMMARY:Workshop “Rohstoffversorgung der Zukunft – Kreislaufwirtschaft | Herausforderungen und Chancen für die Werkstoffe in der Dünnschichttechnik”
DESCRIPTION:Die EFDS m&ouml\;chte mit diesem Workshop einen Einblick in die&nbsp\;neusten&nbsp\;Entwicklungen- und Kreislauf-Technologien f&uuml\;r Werkstoffe der&nbsp\;D&uuml\;nnschichttechnik&nbsp\;geben.\nErfahren Sie mehr &uuml\;ber die Auswahl\, Aufbereitungen und Gew&auml\;hrleistung einer sicheren und nachhaltigen Versorgung mit kritischen Rohmaterialien der D&uuml\;nnschichttechnik.\nHier finden Sie mehr Informationen!
LOCATION:Tagungszentrum S4\, An der Stadtmauer 4\, 87435 Kempten
END:VEVENT
END:VCALENDAR
