BEGIN:VCALENDAR
VERSION:2.0
PRODID:-//YourOrganization//EventDownload//DE
CALSCALE:GREGORIAN
METHOD:PUBLISH
BEGIN:VEVENT
UID:69e4c90417752@leapup.bitshifters.cloud
DTSTAMP:20260419T142228Z
DTSTART:20240611T000000Z
DTEND:20240612T000000Z
SUMMARY:WORKSHOP: Sputtern für die Präzisionsoptik II - Von der digitalen Transformation getriebene Trends in der Beschichtungstechnologie
DESCRIPTION:Photonische Technologien spielen eine Schlüsselrolle beim anhaltenden Trend zur Digitalisierung in fast allen Bereichen der Technik und des täglichen Lebens. Photonische Sensoren\, integrierte Optiken und miniaturisierte optische Systeme ermöglichen technologische Innovationen\, neue Überwachungsmethoden und Prozessoptimierung für die Digitalisierung und Automatisierung der industriellen Produktion.\nWeiter
LOCATION:Bühler Alzenau GmbH\, Siemensstraße 88\, 63755 Alzenau
END:VEVENT
END:VCALENDAR
