BEGIN:VCALENDAR
VERSION:2.0
PRODID:-//YourOrganization//EventDownload//DE
CALSCALE:GREGORIAN
METHOD:PUBLISH
BEGIN:VEVENT
UID:69e4f8e94c0ab@leapup.bitshifters.cloud
DTSTAMP:20260419T174649Z
DTSTART:20250416T153000Z
DTEND:20250416T184500Z
SUMMARY:Workshop: Welche Hardware passt zu meiner KI? – Einblicke in die systematische Leistungsbewertung von Edge Devices  
DESCRIPTION:Setzen Sie Digitalisierungsprojekte mit Hilfe von KI auf lokalen Edge Devices innerhalb Ihres Unternehmens um\nDank der M&ouml\;glichkeiten der KI k&ouml\;nnen beispielsweise produzierende Unternehmen u.a. Investitionsrisiken bzgl. verschlei&szlig\;kritischer Anlagentechnik und Ausfallzeiten minimieren\, Prozessstabilit&auml\;t und Funktionssicherheit garantieren und gleichzeitig ihren Energieverbrauch und ihre Kosten senken. Die Daten der KI-Anwendung werten viele Unternehmen dabei aufgrund der Anforderungen an Datenschutz\, Geschwindigkeit der Datenverarbeitung sowie den daf&uuml\;r anfallenden Kosten nicht in der Cloud aus. Insbesondere beim Erfassen und Analysieren von Schwingungen an Maschinen sind aufgrund hoher Abtastraten bei der Sensordatenerfassung Edge Devices gefragt\, in denen Echtzeitanalysen und KI-Modelle direkt in den Endger&auml\;ten installiert sind.\nAber welche Hardware bietet f&uuml\;r eine konkrete KI-Anwendung die passende Leistung zu den niedrigsten Kosten?&nbsp\;Genau dieser Frage widmet sich der Workshop &raquo\;Welche Hardware passt zu meiner KI? &ndash\; Einblicke in die systematische Leistungsbewertung von Edge Devices&laquo\;.\nAm 16.04. laden wir Sie herzlich ein\, ab 16 Uhr mit unseren Experten des Anwendungs- und Testzentrums in den Austausch zu kommen\, wie sich Digitalisierungsprojekte mit Hilfe von KI auf lokalen Edge Devices auch innerhalb Ihres Unternehmens umsetzen lassen. Erfahren Sie mehr &uuml\;ber eine Methode des Fraunhofer IIS in Dresden zur Bewertung der Leistungsf&auml\;higkeit und des Ressourcenbedarfs verschiedener Hardware-KI-Kombinationen und erleben Sie ein breites Spektrum an Hardware-KI-Kombinationen live in unserem Edge-AI-Labor. Diskutieren Sie Ihre aktuellen Herausforderungen bzgl. der Entwicklung Ihrer eigenen Hardware-KI-Kombination und bekommen Sie n&auml\;here Einblicke in L&ouml\;sungsans&auml\;tze und deren Vor- und Nachteile.\nZur Anmeldung
LOCATION:Fraunhofer IIS/EAS\, Münchner Straße 16\, 01187 Dresden
END:VEVENT
END:VCALENDAR
