BEGIN:VCALENDAR
VERSION:2.0
PRODID:-//YourOrganization//EventDownload//DE
CALSCALE:GREGORIAN
METHOD:PUBLISH
BEGIN:VEVENT
UID:69e4e2bc36538@leapup.bitshifters.cloud
DTSTAMP:20260419T161212Z
DTSTART:20241203T000000Z
DTEND:20241204T000000Z
SUMMARY:WORKSHOP: Zirkuläre Wirtschaft | Strategien für Nachhaltigkeit & Effizienz in der Oberflächen- und Dünnschicht-Technologie
DESCRIPTION:Die Integration von zirkul&auml\;ren Wirtschaftsmodellen in der Oberfl&auml\;chen- und D&uuml\;nnschichttechnik ist entscheidend f&uuml\;r die Schaffung nachhaltiger und effizienter Produktionsprozesse. Geschlossene Materialkreisl&auml\;ufe\, Designs &ndash\; ausgelegt f&uuml\;r Langlebigkeit und Reparatur\, effiziente Nutzung von Ressourcen und erneuerbaren Energien sowie Lebenszyklusstrategien &ndash\; bieten zunehmend Potenzial\, Prozesse und Produkte nachhaltig zu gestalten. Diese gilt es mit Partnerschaften und Kooperationen aus Wirtschaft und Wissenschaft Branchen-&uuml\;bergreifend entlang der gesamten Wertsch&ouml\;pfungskette weiterzuentwickeln.\nWeitere Informationen
LOCATION:Penck Hotel Dresden\, Ostra-Allee 33\, 01067 Dresden
END:VEVENT
END:VCALENDAR
