BEGIN:VCALENDAR
VERSION:2.0
PRODID:-//YourOrganization//EventDownload//DE
CALSCALE:GREGORIAN
METHOD:PUBLISH
BEGIN:VEVENT
UID:69e5c0fa6cd71@leapup.bitshifters.cloud
DTSTAMP:20260420T080026Z
DTSTART:20201110T090000Z
DTEND:20201111T170000Z
SUMMARY:Workshop zur In-house Validierung und Qualitätssicherung von Messverfahren
DESCRIPTION:Der Workshop vermittelt Ihnen die Grundlagen der In-house Validierung und Qualitätssicherung\, mit denen Sie die Leistungsfähigkeit Ihres Messverfahrens und die Rechtssicherheit Ihrer Analyseergebnisse belegen können.
LOCATION:QuoData GmbH Quality & Statistics\, Prellerstraße 14\, 01309 Dresden
END:VEVENT
END:VCALENDAR
