BEGIN:VCALENDAR
VERSION:2.0
PRODID:-//YourOrganization//EventDownload//DE
CALSCALE:GREGORIAN
METHOD:PUBLISH
BEGIN:VEVENT
UID:69e53e405abe5@leapup.bitshifters.cloud
DTSTAMP:20260419T224240Z
DTSTART:20240229T100000Z
DTEND:20240229T113000Z
SUMMARY:Zukunft Künstliche Intelligenz? Rechtliche Fragen beim Einsatz von ChatGPT und Co. sowie eigenen KI-Anwendungen
DESCRIPTION:Der Einsatz von K&uuml\;nstlicher Intelligenz (KI) ist im Unternehmensalltag nicht mehr wegzudenken. ChatGPT und DeepL sind in aller Munde. Mit der Verwendung dieser Technologien stellen sich jedoch viele rechtliche Fragen: Kann ich Anwendungen von anderen Unternehmen frei nutzen? Welche Schutzrechte gelten f&uuml\;r eigene KI-Entwicklungen? Wie ist ein Schutz eigener Investitionsleistungen m&ouml\;glich? Welche Anforderungen gelten im Hinblick auf Datenschutz und Datensicherheit?\nIn diesem 90-min&uuml\;tigen Online-Seminar erhalten die Teilnehmerinnen und Teilnehmer eine Einf&uuml\;hrung\, in welchem Umfang KI-Anwendungen durch das Urheberrecht oder andere geistige Schutzrechte gesch&uuml\;tzt sein und wie sie kommerziell verwertet werden k&ouml\;nnen. Dar&uuml\;ber hinaus erlernen die Teilnehmer und Teilnehmerinnen anhand von\nBest Practice Beispielen\, welche Rahmenbedingungen beim Einsatz von KI und Daten zu beachten sind\, um im Berufsalltag rechtssicher handeln zu k&ouml\;nnen.\n​​​​​​​Vorstellung Dr. Daniel Sch&ouml\;neich:\nHerr Dr. Daniel Sch&ouml\;neich ist Rechtsanwalt bei Battke Gr&uuml\;nberg und dort f&uuml\;r das Team Geistiges Eigentum\, IT- und Medienrecht verantwortlich. Seine Beratung zu geistigen Schutzrechten umfasst alle Bereiche kreativer Leistungen. Dazu z&auml\;hlen urheberrechtliche Werke ebenso wie etwa technische Erfindungen. Deren Rechtsschutz kommt bei Forschungs- und Entwicklungsprojekten oft gro&szlig\;e Bedeutung zu. Dr. Daniel Sch&ouml\;neich gestaltet daf&uuml\;r die notwendigen Schutzrechte passgenau aus und entwirft die notwendigen Lizenz- oder Kooperationsvertr&auml\;ge.\nDaneben legt Dr. Daniel Sch&ouml\;neich als Fachanwalt f&uuml\;r Gewerblichen Rechtsschutz einen starken Fokus auf das IT- und Softwarevertragsrecht. Hier konzipiert und verhandelt er Vertr&auml\;ge gemeinsamen mit den Mandanten und setzt die Vereinbarungen n&ouml\;tigenfalls auch gerichtlich durch.\nNeben seiner anwaltlichen T&auml\;tigkeit lehrt Dr. Daniel Sch&ouml\;neich am Institut f&uuml\;r Internationales Recht\, Geistiges Eigentum und Technikrecht der TU Dresden sowie an der TU Cottbus im Bereich von Forschung und Transfer (Studiengang Transferscout).\nAnmeldefrist: 22.02.2024\nJETZT ANMELDEN
LOCATION:biosaxony Management GmbH\, online
END:VEVENT
END:VCALENDAR
